BEGIN:VCALENDAR
VERSION:2.0
PRODID:-//Thrive Hood River - ECPv6.15.20//NONSGML v1.0//EN
CALSCALE:GREGORIAN
METHOD:PUBLISH
X-ORIGINAL-URL:https://www.thrivehoodriver.org
X-WR-CALDESC:Events for Thrive Hood River
REFRESH-INTERVAL;VALUE=DURATION:PT1H
X-Robots-Tag:noindex
X-PUBLISHED-TTL:PT1H
BEGIN:VTIMEZONE
TZID:UTC
BEGIN:STANDARD
TZOFFSETFROM:+0000
TZOFFSETTO:+0000
TZNAME:UTC
DTSTART:20180101T000000
END:STANDARD
END:VTIMEZONE
BEGIN:VEVENT
DTSTART;TZID=UTC:20190401T190000
DTEND;TZID=UTC:20190401T203000
DTSTAMP:20260423T175101
CREATED:20181212T043023Z
LAST-MODIFIED:20190330T142531Z
UID:8238-1554145200-1554150600@www.thrivehoodriver.org
SUMMARY:Schemes\, Dreams and Teams: a Century-Long Saga to Protect the Columbia Gorge with Kevin Gorman
DESCRIPTION:Thrive is honored to sponsor this Sense of Place lecture on a landscape that is near and dear to our hearts. Over a century ago\, new roadways into the Columbia Gorge led to audacious schemes to “improve the scenic holdings of the Columbia Gorge” by building the world’s tallest elevator at Mist Falls and polo grounds atop Devil’s Rest. Development proposals like these and others eventually led to the creation of the Columbia River Gorge National Scenic Area. \nHowever\, the visionaries of the National Scenic Area couldn’t have foreseen the population increases of the Portland area\, the explosive growth of outdoor recreation\, let alone climate change and wildfire threats. Join Friends of the Columbia Gorge Executive Director Kevin Gorman for a dive into history\, conflict and how technology might help all of us keep the Columbia Gorge wild and beautiful for generations to come. \nSense of Place is an annual lecture series produced by our friends at Gorge Owned (GO!) that seeks to foster a deeper understanding of and connection to our landscape and to one another. \n$10 Suggested Donation.
URL:https://www.thrivehoodriver.org/event/schemes-dreams-and-teams-a-century-long-saga-to-protect-the-columbia-gorge-with-kevin-gorman/
LOCATION:Columbia Center for the Arts\, 215 Cascade Ave\, Hood River\, OR\, United States
ATTACH;FMTTYPE=image/jpeg:https://www.thrivehoodriver.org/wp-content/uploads/2018/12/Columbia-Gorge-Kevin-Gorman-lecture.jpg
END:VEVENT
END:VCALENDAR